BEGIN:VCALENDAR
VERSION:2.0
PRODID:-//Bezirksverband Oberfranken - ECPv6.15.18//NONSGML v1.0//EN
CALSCALE:GREGORIAN
METHOD:PUBLISH
X-ORIGINAL-URL:https://schachbezirk-oberfranken.de
X-WR-CALDESC:Veranstaltungen für Bezirksverband Oberfranken
REFRESH-INTERVAL;VALUE=DURATION:PT1H
X-Robots-Tag:noindex
X-PUBLISHED-TTL:PT1H
BEGIN:VTIMEZONE
TZID:Europe/Berlin
BEGIN:DAYLIGHT
TZOFFSETFROM:+0100
TZOFFSETTO:+0200
TZNAME:CEST
DTSTART:20240331T010000
END:DAYLIGHT
BEGIN:STANDARD
TZOFFSETFROM:+0200
TZOFFSETTO:+0100
TZNAME:CET
DTSTART:20241027T010000
END:STANDARD
BEGIN:DAYLIGHT
TZOFFSETFROM:+0100
TZOFFSETTO:+0200
TZNAME:CEST
DTSTART:20250330T010000
END:DAYLIGHT
BEGIN:STANDARD
TZOFFSETFROM:+0200
TZOFFSETTO:+0100
TZNAME:CET
DTSTART:20251026T010000
END:STANDARD
BEGIN:DAYLIGHT
TZOFFSETFROM:+0100
TZOFFSETTO:+0200
TZNAME:CEST
DTSTART:20260329T010000
END:DAYLIGHT
BEGIN:STANDARD
TZOFFSETFROM:+0200
TZOFFSETTO:+0100
TZNAME:CET
DTSTART:20261025T010000
END:STANDARD
END:VTIMEZONE
BEGIN:VEVENT
DTSTART;TZID=Europe/Berlin:20250316T090000
DTEND;TZID=Europe/Berlin:20250316T150000
DTSTAMP:20260423T153151
CREATED:20250311T142317Z
LAST-MODIFIED:20250318T104659Z
UID:8911-1742115600-1742137200@schachbezirk-oberfranken.de
SUMMARY:Ofr. Mannschaftspokal 1. Runde
DESCRIPTION:Neustadt b. C.  vs  TSV Bindlach Aktionär 1 (Erg.: 3-1) \nSF Kirchenlamitz  vs  SG Sonneberg (Erg.: 0.5-3.5) \n  \nPTSV Hof und TSV Bindlach Aktionär 2 haben spielfrei! \nDie erstgenannte Mannschaft hat das Heimrecht. Spielbeginn\, sofern nicht anders vereinbart: 9:00Uhr. \nInformationen im Rundschreiben beachten.
URL:https://schachbezirk-oberfranken.de/event/ofr-mannschaftspokal-1-runde/
CATEGORIES:Mannschaftsmeisterschaft,Pokal
ATTACH;FMTTYPE=image/png:https://schachbezirk-oberfranken.de/wp-content/uploads/2020/11/Logo800x445.png
ORGANIZER;CN="Bezirksspielleiter BVO":MAILTO:bezirksspielleiter@schachbezirk-oberfranken.de
END:VEVENT
END:VCALENDAR