BEGIN:VCALENDAR
VERSION:2.0
PRODID:-//Bezirksverband Oberfranken - ECPv6.15.18//NONSGML v1.0//EN
CALSCALE:GREGORIAN
METHOD:PUBLISH
X-ORIGINAL-URL:https://schachbezirk-oberfranken.de
X-WR-CALDESC:Veranstaltungen für Bezirksverband Oberfranken
REFRESH-INTERVAL;VALUE=DURATION:PT1H
X-Robots-Tag:noindex
X-PUBLISHED-TTL:PT1H
BEGIN:VTIMEZONE
TZID:Europe/Berlin
BEGIN:DAYLIGHT
TZOFFSETFROM:+0100
TZOFFSETTO:+0200
TZNAME:CEST
DTSTART:20240331T010000
END:DAYLIGHT
BEGIN:STANDARD
TZOFFSETFROM:+0200
TZOFFSETTO:+0100
TZNAME:CET
DTSTART:20241027T010000
END:STANDARD
BEGIN:DAYLIGHT
TZOFFSETFROM:+0100
TZOFFSETTO:+0200
TZNAME:CEST
DTSTART:20250330T010000
END:DAYLIGHT
BEGIN:STANDARD
TZOFFSETFROM:+0200
TZOFFSETTO:+0100
TZNAME:CET
DTSTART:20251026T010000
END:STANDARD
BEGIN:DAYLIGHT
TZOFFSETFROM:+0100
TZOFFSETTO:+0200
TZNAME:CEST
DTSTART:20260329T010000
END:DAYLIGHT
BEGIN:STANDARD
TZOFFSETFROM:+0200
TZOFFSETTO:+0100
TZNAME:CET
DTSTART:20261025T010000
END:STANDARD
END:VTIMEZONE
BEGIN:VEVENT
DTSTART;TZID=Europe/Berlin:20251005T100000
DTEND;TZID=Europe/Berlin:20251005T160000
DTSTAMP:20260421T155827
CREATED:20250726T074947Z
LAST-MODIFIED:20251005T101155Z
UID:9379-1759658400-1759680000@schachbezirk-oberfranken.de
SUMMARY:Oberfränkische Blitz-Mannschaftsmeisterschaft
DESCRIPTION:Alle Informationen finden sich in der Ausschreibung: \nAusschreibung_Blitz-MM \nTurnierdatei: \nhttps://s1.chess-results.com/tnr1266410.aspx?lan=0&art=2&turdet=YES&SNode=S0
URL:https://schachbezirk-oberfranken.de/event/oberfraenkische-blitz-mannschaftsmeisterschaft/
LOCATION:RMV Concordia Strullendorf\, Forchheimer Str. 31\, Strullendorf\, Bayern\, 96129\, Deutschland
CATEGORIES:Blitzschach,Mannschaftsmeisterschaft
ATTACH;FMTTYPE=image/png:https://schachbezirk-oberfranken.de/wp-content/uploads/2025/07/2025_LOGO_Ausschreibung_Blitz_MM.png
ORGANIZER;CN="Bezirksspielleiter BVO":MAILTO:bezirksspielleiter@schachbezirk-oberfranken.de
END:VEVENT
END:VCALENDAR