BEGIN:VCALENDAR
VERSION:2.0
PRODID:-//Bezirksverband Oberfranken - ECPv6.15.18//NONSGML v1.0//EN
CALSCALE:GREGORIAN
METHOD:PUBLISH
X-ORIGINAL-URL:https://schachbezirk-oberfranken.de
X-WR-CALDESC:Veranstaltungen für Bezirksverband Oberfranken
REFRESH-INTERVAL;VALUE=DURATION:PT1H
X-Robots-Tag:noindex
X-PUBLISHED-TTL:PT1H
BEGIN:VTIMEZONE
TZID:Europe/Berlin
BEGIN:DAYLIGHT
TZOFFSETFROM:+0100
TZOFFSETTO:+0200
TZNAME:CEST
DTSTART:20240331T010000
END:DAYLIGHT
BEGIN:STANDARD
TZOFFSETFROM:+0200
TZOFFSETTO:+0100
TZNAME:CET
DTSTART:20241027T010000
END:STANDARD
BEGIN:DAYLIGHT
TZOFFSETFROM:+0100
TZOFFSETTO:+0200
TZNAME:CEST
DTSTART:20250330T010000
END:DAYLIGHT
BEGIN:STANDARD
TZOFFSETFROM:+0200
TZOFFSETTO:+0100
TZNAME:CET
DTSTART:20251026T010000
END:STANDARD
BEGIN:DAYLIGHT
TZOFFSETFROM:+0100
TZOFFSETTO:+0200
TZNAME:CEST
DTSTART:20260329T010000
END:DAYLIGHT
BEGIN:STANDARD
TZOFFSETFROM:+0200
TZOFFSETTO:+0100
TZNAME:CET
DTSTART:20261025T010000
END:STANDARD
END:VTIMEZONE
BEGIN:VEVENT
DTSTART;VALUE=DATE:20250830
DTEND;VALUE=DATE:20250908
DTSTAMP:20260421T140024
CREATED:20250102T125604Z
LAST-MODIFIED:20250710T203801Z
UID:8664-1756512000-1757289599@schachbezirk-oberfranken.de
SUMMARY:3. Fränkisches Senioren-Derby und 1. Internat. Senioreninnen-Turnier in Bischofsgrün
DESCRIPTION:Ausschreibung \n  \nTeilnehmerliste 1: Schachturnier-Ergebnisserver Chess-results.com – Schachfestival 2025 – Sen Derby \nTeilnehmerliste 2: Schachturnier-Ergebnisserver Chess-results.com – Schachfestival 2025 – Seniorinnen
URL:https://schachbezirk-oberfranken.de/event/3-fraenkisches-senioren-derby-und-1-internat-senioreninnen-turnier-in-bischofsgruen/
LOCATION:Bischofsgrün – Kurhaus\, Jägerstraße 9\, Bischofsgrün\, Bayern/Oberfranken\, 95493\, Deutschland
CATEGORIES:Senioren
ATTACH;FMTTYPE=image/png:https://schachbezirk-oberfranken.de/wp-content/uploads/2025/01/2025_Sen_Derby.png
ORGANIZER;CN="Wolfgang Fiedler":MAILTO:fiedlerw@t-online.de
END:VEVENT
BEGIN:VEVENT
DTSTART;TZID=Europe/Berlin:20250903T170000
DTEND;TZID=Europe/Berlin:20250907T140000
DTSTAMP:20260421T140024
CREATED:20250319T102621Z
LAST-MODIFIED:20250319T103437Z
UID:8970-1756918800-1757253600@schachbezirk-oberfranken.de
SUMMARY:7.Bamberg-Open 2025
DESCRIPTION:Auf Bitte unserer Schachfreunde aus Bamberg weisen wir auf das 7. Bamberg Open mit integrierter offener internationaler Fränkischen Meisterschaft vom 03.09 – 07.09.2025 hin. Weitere Details sind der Ausschreibung zu entnehmen oder auf https://bamberg-open.de/ zu finden. \n  \n2025-ausschreibung.pdf
URL:https://schachbezirk-oberfranken.de/event/7-bamberg-open-2025/
LOCATION:Klemens-Fink-Zentrum\, Babenbergerring 1\, Bamberg\, Bayern\, 96049\, Deutschland
CATEGORIES:Allgemein,externe Turniere
ATTACH;FMTTYPE=image/png:https://schachbezirk-oberfranken.de/wp-content/uploads/2025/03/2025_LOGO_Bamberg-Open.png
ORGANIZER;CN="SC Bamberg":MAILTO:vorstand1-scbamberg@email.de
END:VEVENT
BEGIN:VEVENT
DTSTART;TZID=Europe/Berlin:20250912T160000
DTEND;TZID=Europe/Berlin:20250914T160000
DTSTAMP:20260421T140024
CREATED:20250324T123334Z
LAST-MODIFIED:20250902T200316Z
UID:8994-1757692800-1757865600@schachbezirk-oberfranken.de
SUMMARY:Ausbildung zum regionalen Schiedsrichter am 12.-14.09.2025 in Weidhausen - Lehrgang entfällt
DESCRIPTION:Ausschreibung \n  \nLiebe Schachfreundinnen und Schachfreunde\, \nes tut mir außerordentlich leid mitteilen zu müssen\, dass der oben genannte Lehrgang in Weidhausen mangels Teilnehmer in Absprache mit dem Bayerischen Schachbund abgesagt werden muss.  \n\nTrotz großer Werbung ist es uns nicht gelungen\, die Mindestanzahl an Teilnehmern bis zum Stichtag 31.08.2025 zu erreichen. Der Aufwand für den ... 
URL:https://schachbezirk-oberfranken.de/event/ausbildung-zum-regionalen-schiedsrichter-am-12-14-09-2025-in-weidhausen/
LOCATION:96279 Weidhausen; Schloßhof 8 Schützenhaus\, Schloßhof 8\, Weidhausen\, Bayer\, 96279\, Germany
CATEGORIES:Allgemein,Ausbildung
ATTACH;FMTTYPE=image/jpeg:https://schachbezirk-oberfranken.de/wp-content/uploads/2023/10/2023_Ausbildung_RSR.jpg
ORGANIZER;CN="BVO - 2. Vorsitzender - Reiner Schulz":MAILTO:2.vorsitzender@schachbezirk-oberfranken.de
END:VEVENT
BEGIN:VEVENT
DTSTART;TZID=Europe/Berlin:20250913T090000
DTEND;TZID=Europe/Berlin:20250914T160000
DTSTAMP:20260421T140024
CREATED:20250324T160159Z
LAST-MODIFIED:20250902T200424Z
UID:8998-1757754000-1757865600@schachbezirk-oberfranken.de
SUMMARY:Lehrgang zur Verlängerung der Lizenz als Regionaler Schiedsrichter des DSB am 13.-14.09.2025 in Weidhausen - Lehrgang entfällt
DESCRIPTION:Ausschreibung \nLiebe Schachfreundinnen und Schachfreunde\, \nes tut mir außerordentlich leid mitteilen zu müssen\, dass der oben genannte Lehrgang in Weidhausen mangels Teilnehmer in Absprache mit dem Bayerischen Schachbund abgesagt werden muss.  \n\nTrotz großer Werbung ist es uns nicht gelungen\, die Mindestanzahl an Teilnehmern bis zum Stichtag 31.08.2025 zu erreichen. Der Aufwand für den Lehrgang ... 
URL:https://schachbezirk-oberfranken.de/event/lehrgang-zur-verlaengerung-der-lizenz-als-regionaler-schiedsrichter-des-dsb-am-13-14-09-2025-in-weidhausen/
LOCATION:96279 Weidhausen; Schloßhof 8 Schützenhaus\, Schloßhof 8\, Weidhausen\, Bayer\, 96279\, Germany
CATEGORIES:Allgemein,Ausbildung
ATTACH;FMTTYPE=image/jpeg:https://schachbezirk-oberfranken.de/wp-content/uploads/2023/10/2023_Ausbildung_RSR.jpg
ORGANIZER;CN="BVO - 2. Vorsitzender - Reiner Schulz":MAILTO:2.vorsitzender@schachbezirk-oberfranken.de
END:VEVENT
END:VCALENDAR