BEGIN:VCALENDAR
VERSION:2.0
PRODID:-//Bezirksverband Oberfranken - ECPv6.15.18//NONSGML v1.0//EN
CALSCALE:GREGORIAN
METHOD:PUBLISH
X-WR-CALNAME:Bezirksverband Oberfranken
X-ORIGINAL-URL:https://schachbezirk-oberfranken.de
X-WR-CALDESC:Veranstaltungen für Bezirksverband Oberfranken
REFRESH-INTERVAL;VALUE=DURATION:PT1H
X-Robots-Tag:noindex
X-PUBLISHED-TTL:PT1H
BEGIN:VTIMEZONE
TZID:Europe/Berlin
BEGIN:DAYLIGHT
TZOFFSETFROM:+0100
TZOFFSETTO:+0200
TZNAME:CEST
DTSTART:20240331T010000
END:DAYLIGHT
BEGIN:STANDARD
TZOFFSETFROM:+0200
TZOFFSETTO:+0100
TZNAME:CET
DTSTART:20241027T010000
END:STANDARD
BEGIN:DAYLIGHT
TZOFFSETFROM:+0100
TZOFFSETTO:+0200
TZNAME:CEST
DTSTART:20250330T010000
END:DAYLIGHT
BEGIN:STANDARD
TZOFFSETFROM:+0200
TZOFFSETTO:+0100
TZNAME:CET
DTSTART:20251026T010000
END:STANDARD
BEGIN:DAYLIGHT
TZOFFSETFROM:+0100
TZOFFSETTO:+0200
TZNAME:CEST
DTSTART:20260329T010000
END:DAYLIGHT
BEGIN:STANDARD
TZOFFSETFROM:+0200
TZOFFSETTO:+0100
TZNAME:CET
DTSTART:20261025T010000
END:STANDARD
END:VTIMEZONE
BEGIN:VEVENT
DTSTART;TZID=Europe/Berlin:20251115T093000
DTEND;TZID=Europe/Berlin:20251115T170000
DTSTAMP:20260423T110417
CREATED:20250921T170634Z
LAST-MODIFIED:20250922T081513Z
UID:9494-1763199000-1763226000@schachbezirk-oberfranken.de
SUMMARY:Erstes Kulmbacher Freestyle-Chess Open
DESCRIPTION:  \nAusschreibung \n  \nAnmeldeliste \n  \nAchtung: \nVoranmeldung erforderlich: Begrenzung auf 32 Teilnehmer (Reihenfolge\nder Anmeldung zählt!)\, danach Warteliste
URL:https://schachbezirk-oberfranken.de/event/erstes-kulmbacher-freestyle-chess-open/
LOCATION:Kulmbach – Heiner-Stenglein Senioren- und Pflegeheim\, Am Rasen 1\, Kulmbach\, 95326\, Deutschland
CATEGORIES:externe Turniere
ATTACH;FMTTYPE=image/png:https://schachbezirk-oberfranken.de/wp-content/uploads/2025/09/2025_Freestyle-Chess_Open.png
ORGANIZER;CN="SK Kulmbach":MAILTO:skkulmbach1907@gmail.com
END:VEVENT
BEGIN:VEVENT
DTSTART;TZID=Europe/Berlin:20251116T090000
DTEND;TZID=Europe/Berlin:20251116T150000
DTSTAMP:20260423T110418
CREATED:20250713T183847Z
LAST-MODIFIED:20250713T183847Z
UID:9337-1763283600-1763305200@schachbezirk-oberfranken.de
SUMMARY:Oberfränkische Mannschaftsmeisterschaften 2025/2026 3. Runde
DESCRIPTION:
URL:https://schachbezirk-oberfranken.de/event/oberfraenkische-mannschaftsmeisterschaften-2025-2026-3-runde/
CATEGORIES:Mannschaftsmeisterschaft
ATTACH;FMTTYPE=image/png:https://schachbezirk-oberfranken.de/wp-content/uploads/2020/11/Logo800x445.png
ORGANIZER;CN="Schachbezirk Oberfranken":MAILTO:bezirksspielleiter@schachbezirk-oberfranken.de
END:VEVENT
BEGIN:VEVENT
DTSTART;TZID=Europe/Berlin:20251122T090000
DTEND;TZID=Europe/Berlin:20251122T170000
DTSTAMP:20260423T110418
CREATED:20250923T083020Z
LAST-MODIFIED:20251021T154152Z
UID:9504-1763802000-1763830800@schachbezirk-oberfranken.de
SUMMARY:47. Oberfränkische Schulschachmeisterschaften in Coburg
DESCRIPTION:Die diesjährigen Schulschachmeisterschaften finden statt am:\nSamstag\, den 22. Nov. 2025: Anmeldung von 09.00 bis 09.30 Uhr\, Turnierbeginn 10.00 Uhr\nSpielort: Gymnasium Casimiranium Coburg\, Gymnasiumsgasse 2\, 96450 Coburg\nSiegerehrung: ca. 17.00 Uhr \nAusschreibung 47.Ofr. Schulschachmeisterschaften 2025 v1.1
URL:https://schachbezirk-oberfranken.de/event/47-oberfraenkische-schulschachmeisterschaften-in-coburg/
LOCATION:Gymnasium Casimiranium Coburg\, Gymnasiumsgasse 2\, Coburg\, Bayern\, 96450\, Germany
CATEGORIES:Schulschach
ATTACH;FMTTYPE=image/png:https://schachbezirk-oberfranken.de/wp-content/uploads/2025/09/2025_Casimiranium_LOGO.png
ORGANIZER;CN="BVO - Schulschachreferent Alexander Lechner":MAILTO:alexander.lechner5@yahoo.com
END:VEVENT
END:VCALENDAR